BEGIN:VCALENDAR
VERSION:2.0
PRODID:-//hacksw/handcal//NONSGML v1.0//EN
CALSCALE:GREGORIAN
BEGIN:VEVENT
LOCATION:Belmar\, 433 S. Teller St.\, Lakewood\, CO
DESCRIPTION:https://www.milehighonthecheap.com/event/kentucky-derby-celebration-belmar/
DTSTART;TZID=America/Denver:20260502T140000
DTEND;TZID=America/Denver:20260502T170000
SUMMARY:Kentucky Derby Celebration
URL;VALUE=URI:https://www.milehighonthecheap.com/event/kentucky-derby-celebration-belmar/
DTSTAMP:20260425T073839
UID:69ecc3df5bb7a
END:VEVENT
END:VCALENDAR