BEGIN:VCALENDAR
VERSION:2.0
PRODID:-//hacksw/handcal//NONSGML v1.0//EN
CALSCALE:GREGORIAN
BEGIN:VEVENT
LOCATION:James Allen Community Park\, 6230 Glencoe St.\, Commerce City\, CO
DESCRIPTION:https://www.milehighonthecheap.com/event/rustys-spring-community-bash-commerce-city/
DTSTART;TZID=America/Denver:20260422T150000
DTEND;TZID=America/Denver:20260422T170000
SUMMARY:Rusty's Spring Community Bash
URL;VALUE=URI:https://www.milehighonthecheap.com/event/rustys-spring-community-bash-commerce-city/
DTSTAMP:20260420T064318
UID:69e61f66998af
END:VEVENT
END:VCALENDAR