BEGIN:VCALENDAR
VERSION:2.0
PRODID:-//hacksw/handcal//NONSGML v1.0//EN
CALSCALE:GREGORIAN
BEGIN:VEVENT
LOCATION:RiNo Art Park\, 1900 35th St.\, Denver\, CO
DESCRIPTION:https://www.milehighonthecheap.com/event/rino-first-friday-festival-3/
DTSTART;TZID=America/Denver:20260904T160000
DTEND;TZID=America/Denver:20260904T210000
SUMMARY:RiNo First Friday Festival
URL;VALUE=URI:https://www.milehighonthecheap.com/event/rino-first-friday-festival-3/
DTSTAMP:20260424T070051
UID:69eb6983d75d6
END:VEVENT
END:VCALENDAR