BEGIN:VCALENDAR
VERSION:2.0
PRODID:-//hacksw/handcal//NONSGML v1.0//EN
CALSCALE:GREGORIAN
BEGIN:VEVENT
LOCATION:Larimer Square\, 1430 Larimer St.\, Denver\, CO
DESCRIPTION:https://www.milehighonthecheap.com/event/spring-fling-larimer-square/
DTSTART;TZID=America/Denver:20260502T140000
DTEND;TZID=America/Denver:20260502T180000
SUMMARY:Spring Fling: Art in Bloom
URL;VALUE=URI:https://www.milehighonthecheap.com/event/spring-fling-larimer-square/
DTSTAMP:20260425T073843
UID:69ecc3e3c50ea
END:VEVENT
END:VCALENDAR