BEGIN:VCALENDAR
VERSION:2.0
PRODID:-//hacksw/handcal//NONSGML v1.0//EN
CALSCALE:GREGORIAN
BEGIN:VEVENT
LOCATION:PACE Center in Parker\, 20000 Pikes Peak Ave.\, Parker\, CO
DESCRIPTION:https://www.milehighonthecheap.com/event/reel-stories-aanhpi-voices-in-film/
DTSTART;TZID=America/Denver:20260503T150000
DTEND;TZID=America/Denver:20260503T183000
SUMMARY:Reel Stories: AANHPI Voices in Film
URL;VALUE=URI:https://www.milehighonthecheap.com/event/reel-stories-aanhpi-voices-in-film/
DTSTAMP:20260419T065732
UID:69e4d13ce49f1
END:VEVENT
END:VCALENDAR