BEGIN:VCALENDAR
VERSION:2.0
PRODID:-//hacksw/handcal//NONSGML v1.0//EN
CALSCALE:GREGORIAN
BEGIN:VEVENT
LOCATION:Roxy on Broadway\, 554 S. Broadway\, Denver\, CO
DESCRIPTION:https://www.milehighonthecheap.com/event/broadway-roxy-9/
DTSTART;TZID=America/Denver:20260425T200000
DTEND;TZID=America/Denver:20260425T230000
SUMMARY:Live Music: Phooey
URL;VALUE=URI:https://www.milehighonthecheap.com/event/broadway-roxy-9/
DTSTAMP:20260421T134241
UID:69e7d3315e6ef
END:VEVENT
END:VCALENDAR