BEGIN:VCALENDAR
VERSION:2.0
PRODID:-//hacksw/handcal//NONSGML v1.0//EN
CALSCALE:GREGORIAN
BEGIN:VEVENT
LOCATION:Dazzle\, 1080 14th St.\, Denver\, CO
DESCRIPTION:https://www.milehighonthecheap.com/event/dazzle-11/
DTSTART;TZID=America/Denver:20260425T220000
DTEND;TZID=America/Denver:20260425T233000
SUMMARY:Live Music: Sarah Mount & Kyle Driscoll
URL;VALUE=URI:https://www.milehighonthecheap.com/event/dazzle-11/
DTSTAMP:20260423T191431
UID:69eac3f7b659a
END:VEVENT
END:VCALENDAR