BEGIN:VCALENDAR
VERSION:2.0
PRODID:-//hacksw/handcal//NONSGML v1.0//EN
CALSCALE:GREGORIAN
BEGIN:VEVENT
LOCATION:Dazzle\, 1080 14th St.\, Denver\, CO
DESCRIPTION:https://www.milehighonthecheap.com/event/dazzle-10/
DTSTART;TZID=America/Denver:20260502T120000
DTEND;TZID=America/Denver:20260502T235900
SUMMARY:Kids' Matinee: The Playmakers - Jack and the Beanstalk\, An Interactive Event
URL;VALUE=URI:https://www.milehighonthecheap.com/event/dazzle-10/
DTSTAMP:20260423T191431
UID:69eac3f73f833
END:VEVENT
END:VCALENDAR