BEGIN:VCALENDAR
VERSION:2.0
PRODID:-//hacksw/handcal//NONSGML v1.0//EN
CALSCALE:GREGORIAN
BEGIN:VEVENT
LOCATION:Nissi's\, 1455 Coal Creek Dr.\, Lafayette\, CO
DESCRIPTION:https://www.milehighonthecheap.com/event/nissis-12/
DTSTART;TZID=America/Denver:20260423T183000
DTEND;TZID=America/Denver:20260423T235900
SUMMARY:Live Music: Atomic Jones Band
URL;VALUE=URI:https://www.milehighonthecheap.com/event/nissis-12/
DTSTAMP:20260420T190327
UID:69e6ccdf60916
END:VEVENT
END:VCALENDAR