BEGIN:VCALENDAR
VERSION:2.0
PRODID:-//hacksw/handcal//NONSGML v1.0//EN
CALSCALE:GREGORIAN
BEGIN:VEVENT
LOCATION:The Black Buzzard\, 1624 Market St.\, Denver\, CO
DESCRIPTION:https://www.milehighonthecheap.com/event/the-black-buzzard-2/
DTSTART;TZID=America/Denver:20260430T190000
DTEND;TZID=America/Denver:20260430T235900
SUMMARY:Live Music: Hand Turkey w/ Phooey & Corgi Cartel
URL;VALUE=URI:https://www.milehighonthecheap.com/event/the-black-buzzard-2/
DTSTAMP:20260421T151228
UID:69e7e83c784de
END:VEVENT
END:VCALENDAR