BEGIN:VCALENDAR
VERSION:2.0
PRODID:-//hacksw/handcal//NONSGML v1.0//EN
CALSCALE:GREGORIAN
BEGIN:VEVENT
LOCATION:Dazzle\, 1080 14th St.\, Denver\, CO
DESCRIPTION:https://www.milehighonthecheap.com/event/dazzle-8/
DTSTART;TZID=America/Denver:20260502T220000
DTEND;TZID=America/Denver:20260502T233000
SUMMARY:Live Music: PB & V Trio
URL;VALUE=URI:https://www.milehighonthecheap.com/event/dazzle-8/
DTSTAMP:20260423T190842
UID:69eac29a323f0
END:VEVENT
END:VCALENDAR