BEGIN:VCALENDAR
VERSION:2.0
PRODID:-//hacksw/handcal//NONSGML v1.0//EN
CALSCALE:GREGORIAN
BEGIN:VEVENT
LOCATION:
DESCRIPTION:https://www.milehighonthecheap.com/event/broadway-roxy-2/
DTSTART;TZID=America/Denver:20260420T171200
DTEND;TZID=America/Denver:20260420T171200
SUMMARY:Live Music: Jsynical\, Raymond Ciprian\, alexplayzdrumz\, & Joshua Trinidad
URL;VALUE=URI:https://www.milehighonthecheap.com/event/broadway-roxy-2/
DTSTAMP:20260420T171216
UID:69e6b2d0b48f7
END:VEVENT
END:VCALENDAR