BEGIN:VCALENDAR
VERSION:2.0
PRODID:-//hacksw/handcal//NONSGML v1.0//EN
CALSCALE:GREGORIAN
BEGIN:VEVENT
LOCATION:Nissi's\, 1455 Coal Creek Dr.\, Lafayette\, CO
DESCRIPTION:https://www.milehighonthecheap.com/event/nissis-8/
DTSTART;TZID=America/Denver:20260528T183000
DTEND;TZID=America/Denver:20260528T235900
SUMMARY:Live Music: The Doors Jam
URL;VALUE=URI:https://www.milehighonthecheap.com/event/nissis-8/
DTSTAMP:20260420T190300
UID:69e6ccc48a092
END:VEVENT
END:VCALENDAR