BEGIN:VCALENDAR
VERSION:2.0
PRODID:-//hacksw/handcal//NONSGML v1.0//EN
CALSCALE:GREGORIAN
BEGIN:VEVENT
LOCATION:Cheluna Brewing Co.\, 2501 Dallas St.\, Aurora\, CO
DESCRIPTION:https://www.milehighonthecheap.com/event/cheluna-brewing-company-5/
DTSTART;TZID=America/Denver:20260430T180000
DTEND;TZID=America/Denver:20260430T235900
SUMMARY:Book Club
URL;VALUE=URI:https://www.milehighonthecheap.com/event/cheluna-brewing-company-5/
DTSTAMP:20260421T025246
UID:69e73adeb3abc
END:VEVENT
END:VCALENDAR