BEGIN:VCALENDAR
VERSION:2.0
PRODID:-//hacksw/handcal//NONSGML v1.0//EN
CALSCALE:GREGORIAN
BEGIN:VEVENT
LOCATION:First Plymouth Congregational Church\, 3501 S. Colorado Blvd.\, Denver\, CO
DESCRIPTION:https://www.milehighonthecheap.com/event/colorado-potters-guild-sale-3/
DTSTART;TZID=America/Denver:20260502T090000
DTEND;TZID=America/Denver:20260502T170000
SUMMARY:Colorado Potters Guild Spring Sale
URL;VALUE=URI:https://www.milehighonthecheap.com/event/colorado-potters-guild-sale-3/
DTSTAMP:20260421T060144
UID:69e76728aeee9
END:VEVENT
END:VCALENDAR