BEGIN:VCALENDAR
VERSION:2.0
PRODID:-//hacksw/handcal//NONSGML v1.0//EN
CALSCALE:GREGORIAN
BEGIN:VEVENT
LOCATION:First Plymouth Congregational Church\, 3501 S. Colorado Blvd.\, Denver\, CO
DESCRIPTION:https://www.milehighonthecheap.com/event/colorado-potters-guild-sale/
DTSTART;TZID=America/Denver:20260430T160000
DTEND;TZID=America/Denver:20260430T200000
SUMMARY:Colorado POtters Guild Spring Sale
URL;VALUE=URI:https://www.milehighonthecheap.com/event/colorado-potters-guild-sale/
DTSTAMP:20260421T060145
UID:69e767291f69c
END:VEVENT
END:VCALENDAR