BEGIN:VCALENDAR
VERSION:2.0
PRODID:-//hacksw/handcal//NONSGML v1.0//EN
CALSCALE:GREGORIAN
BEGIN:VEVENT
LOCATION:Conservatory Green at Central Park Northfield\, 8304 E. 49th Pl.\, Denver\, CO
DESCRIPTION:https://www.milehighonthecheap.com/event/stapleton-concert-series-at-northfield-8/
DTSTART;TZID=America/Denver:20260730T183000
DTEND;TZID=America/Denver:20260730T203000
SUMMARY:MoJaBlu Concert Series - Jacob Larson Band
URL;VALUE=URI:https://www.milehighonthecheap.com/event/stapleton-concert-series-at-northfield-8/
DTSTAMP:20260419T230811
UID:69e5b4bb21c49
END:VEVENT
END:VCALENDAR