BEGIN:VCALENDAR
VERSION:2.0
PRODID:-//hacksw/handcal//NONSGML v1.0//EN
CALSCALE:GREGORIAN
BEGIN:VEVENT
LOCATION:Nissi's\, 1455 Coal Creek Dr.\, Lafayette\, CO
DESCRIPTION:https://www.milehighonthecheap.com/event/nissis-7/
DTSTART;TZID=America/Denver:20260521T183000
DTEND;TZID=America/Denver:20260521T235900
SUMMARY:Live Music: Gone2Long
URL;VALUE=URI:https://www.milehighonthecheap.com/event/nissis-7/
DTSTAMP:20260420T190326
UID:69e6ccdee0466
END:VEVENT
END:VCALENDAR