BEGIN:VCALENDAR
VERSION:2.0
PRODID:-//hacksw/handcal//NONSGML v1.0//EN
CALSCALE:GREGORIAN
BEGIN:VEVENT
LOCATION:Nissi's\, 1455 Coal Creek Dr.\, Lafayette\, CO
DESCRIPTION:https://www.milehighonthecheap.com/event/nissis-5/
DTSTART;TZID=America/Denver:20260520T183000
DTEND;TZID=America/Denver:20260520T235900
SUMMARY:Bourbon\, Blues\, & Grooves -- The Saints
URL;VALUE=URI:https://www.milehighonthecheap.com/event/nissis-5/
DTSTAMP:20260420T190301
UID:69e6ccc51c6bb
END:VEVENT
END:VCALENDAR