BEGIN:VCALENDAR
VERSION:2.0
PRODID:-//hacksw/handcal//NONSGML v1.0//EN
CALSCALE:GREGORIAN
BEGIN:VEVENT
LOCATION:Dazzle\, 1080 14th St.\, Denver\, CO
DESCRIPTION:https://www.milehighonthecheap.com/event/dazzle-2/
DTSTART;TZID=America/Denver:20260430T203000
DTEND;TZID=America/Denver:20260430T220000
SUMMARY:Live Music: kieran macri
URL;VALUE=URI:https://www.milehighonthecheap.com/event/dazzle-2/
DTSTAMP:20260423T190841
UID:69eac2999fd8d
END:VEVENT
END:VCALENDAR