BEGIN:VCALENDAR
VERSION:2.0
PRODID:-//hacksw/handcal//NONSGML v1.0//EN
CALSCALE:GREGORIAN
BEGIN:VEVENT
LOCATION:Nissi's\, 1455 Coal Creek Dr.\, Lafayette\, CO
DESCRIPTION:https://www.milehighonthecheap.com/event/nissis/
DTSTART;TZID=America/Denver:20260505T180000
DTEND;TZID=America/Denver:20260505T235900
SUMMARY:Live Music: GlobalSound School Student Concert
URL;VALUE=URI:https://www.milehighonthecheap.com/event/nissis/
DTSTAMP:20260420T190326
UID:69e6ccdeda75c
END:VEVENT
END:VCALENDAR