BEGIN:VCALENDAR
VERSION:2.0
PRODID:-//hacksw/handcal//NONSGML v1.0//EN
CALSCALE:GREGORIAN
BEGIN:VEVENT
LOCATION:The Streets at Southglenn\, 6991 South Vine Street\, Centennial\, CO
DESCRIPTION:https://www.milehighonthecheap.com/event/streets-of-southglenn-hosts-free-summer-concerts-6/
DTSTART;TZID=America/Denver:20260826T183000
DTEND;TZID=America/Denver:20260826T200000
SUMMARY:Streets of SouthGlenn Summer Concerts - Top Shelf Entertainment
URL;VALUE=URI:https://www.milehighonthecheap.com/event/streets-of-southglenn-hosts-free-summer-concerts-6/
DTSTAMP:20260425T223215
UID:69ed954fd9132
END:VEVENT
END:VCALENDAR