BEGIN:VCALENDAR
VERSION:2.0
PRODID:-//hacksw/handcal//NONSGML v1.0//EN
CALSCALE:GREGORIAN
BEGIN:VEVENT
LOCATION:The Streets at Southglenn\, 6991 South Vine Street\, Centennial\, CO
DESCRIPTION:https://www.milehighonthecheap.com/event/streets-of-southglenn-hosts-free-summer-concerts-5/
DTSTART;TZID=America/Denver:20260812T183000
DTEND;TZID=America/Denver:20260812T200000
SUMMARY:Streets of SouthGlenn Summer Concerts - Last Men on Earth
URL;VALUE=URI:https://www.milehighonthecheap.com/event/streets-of-southglenn-hosts-free-summer-concerts-5/
DTSTAMP:20260425T223411
UID:69ed95c36dca1
END:VEVENT
END:VCALENDAR