BEGIN:VCALENDAR
VERSION:2.0
PRODID:-//hacksw/handcal//NONSGML v1.0//EN
CALSCALE:GREGORIAN
BEGIN:VEVENT
LOCATION:The Streets at Southglenn\, 6991 South Vine Street\, Centennial\, CO
DESCRIPTION:https://www.milehighonthecheap.com/event/streets-of-southglenn-hosts-free-summer-concerts-4/
DTSTART;TZID=America/Denver:20260722T183000
DTEND;TZID=America/Denver:20260722T200000
SUMMARY:Streets of SouthGlenn Summer Concerts - The Long Run
URL;VALUE=URI:https://www.milehighonthecheap.com/event/streets-of-southglenn-hosts-free-summer-concerts-4/
DTSTAMP:20260425T222420
UID:69ed9374ce7cb
END:VEVENT
END:VCALENDAR