BEGIN:VCALENDAR
VERSION:2.0
PRODID:-//hacksw/handcal//NONSGML v1.0//EN
CALSCALE:GREGORIAN
BEGIN:VEVENT
LOCATION:The Streets at Southglenn\, 6991 South Vine Street\, Centennial\, CO
DESCRIPTION:https://www.milehighonthecheap.com/event/streets-of-southglenn-hosts-free-summer-concerts-3/
DTSTART;TZID=America/Denver:20260708T183000
DTEND;TZID=America/Denver:20260708T200000
SUMMARY:Streets of SouthGlenn Summer Concerts - Hazel Miller & The Collective
URL;VALUE=URI:https://www.milehighonthecheap.com/event/streets-of-southglenn-hosts-free-summer-concerts-3/
DTSTAMP:20260425T223006
UID:69ed94ceb4d41
END:VEVENT
END:VCALENDAR